BEGIN:VCALENDAR
VERSION:2.0
PRODID:-//Wilde Rauke - ECPv6.15.20//NONSGML v1.0//EN
CALSCALE:GREGORIAN
METHOD:PUBLISH
X-ORIGINAL-URL:https://www.wilde-rauke.de
X-WR-CALDESC:Veranstaltungen für Wilde Rauke
REFRESH-INTERVAL;VALUE=DURATION:PT1H
X-Robots-Tag:noindex
X-PUBLISHED-TTL:PT1H
BEGIN:VTIMEZONE
TZID:UTC
BEGIN:STANDARD
TZOFFSETFROM:+0000
TZOFFSETTO:+0000
TZNAME:UTC
DTSTART:20230101T000000
END:STANDARD
END:VTIMEZONE
BEGIN:VEVENT
DTSTART;TZID=UTC:20260412T080000
DTEND;TZID=UTC:20260412T170000
DTSTAMP:20260424T083255
CREATED:20260324T160405Z
LAST-MODIFIED:20260324T160406Z
UID:1282-1775980800-1776013200@www.wilde-rauke.de
SUMMARY:Erster Ackertag 2026
DESCRIPTION:An diesem Sonntag freuen wir uns über Euren Besuch ab 10 Uhr auf dem Acker. Bitte meldet Euch vorher an unter: gesamtkoordination@wilde-rauke.de Für ein Mittagessen sorgen wir.
URL:https://www.wilde-rauke.de/veranstaltung/erster-ackertag-2026/
END:VEVENT
BEGIN:VEVENT
DTSTART;TZID=UTC:20260201T080000
DTEND;TZID=UTC:20260201T170000
DTSTAMP:20260424T083255
CREATED:20260324T155838Z
LAST-MODIFIED:20260324T155838Z
UID:1278-1769932800-1769965200@www.wilde-rauke.de
SUMMARY:Bieterunde und Mitgliederversammlung
DESCRIPTION:Für die 2 Saison findet hier unsere Bieterunde und MV statt.
URL:https://www.wilde-rauke.de/veranstaltung/bieterunde-und-mitgliederversammlung/
END:VEVENT
BEGIN:VEVENT
DTSTART;TZID=UTC:20251212T080000
DTEND;TZID=UTC:20251212T170000
DTSTAMP:20260424T083255
CREATED:20260324T160002Z
LAST-MODIFIED:20260324T160004Z
UID:1280-1765526400-1765558800@www.wilde-rauke.de
SUMMARY:Heckenpflanzen
DESCRIPTION:Unsere bereits existierende Hecke von 80m länge wird um weitere 240m Verlängert! Bald ist unser ganzer Acker umrandet!
URL:https://www.wilde-rauke.de/veranstaltung/heckenpflanzen/
END:VEVENT
BEGIN:VEVENT
DTSTART;TZID=UTC:20250126T110000
DTEND;TZID=UTC:20250126T140000
DTSTAMP:20260424T083255
CREATED:20241209T081932Z
LAST-MODIFIED:20251208T115221Z
UID:649-1737889200-1737900000@www.wilde-rauke.de
SUMMARY:Bieterunde
DESCRIPTION:Bieterunde \nals Form solidarischer Beitragsgestaltung \nIn der Solidarischen Landwirtschaft werden die Produktionskosten gemeinschaftlich von den Mitgliedern getragen. Dazu stellen die Gärtner:innen zu Beginn eines neuen Wirtschaftsjahres ihre geplante Kostenkalkulation – das Jahresbudget – vor\, auf deren Grundlage die verbindlichen Beiträge für die Mitglieder bestimmt werden. \nUm möglichst vielen Menschen ungeachtet ihrer Lebenssituation und finanziellen Mittel die Teilhabe an einer Solawi zu ermöglichen\, gibt es verschiedene Formen der Beitragsgestaltung. So entsteht nicht nur Solidarität mit den Anbauenden\, sondern auch zwischen den Mitgliedern.
URL:https://www.wilde-rauke.de/veranstaltung/bieterunde/
END:VEVENT
BEGIN:VEVENT
DTSTART;VALUE=DATE:20241218
DTEND;VALUE=DATE:20241219
DTSTAMP:20260424T083255
CREATED:20241209T082218Z
LAST-MODIFIED:20241209T082218Z
UID:653-1734480000-1734566399@www.wilde-rauke.de
SUMMARY:Acker Aktion Beete vorbereiten
DESCRIPTION:Liebe Mitglieder\, Interessierte\, Supporter*innen und alle die uns kennen lernen wollen. \nWir haben 2 neue Termine für Aktionen auf dem Acker geplant. \nAm 13.12. möchten wir gerne die Naturschutzhecke pflanzen und zäunen\, die wir über das Projekt Ran an die Schaufel vom Kreis Warendorf bekommen haben: Kornelkirsche\, Hartriegel\, Hasel\, Weissdorn\, Heckenkirsche\, Wilde Apfel\, Wilde Birne\, Schehdorn\, Hundsrose\, Holunder und Kreuzdorn. \nAm 18.12. wollen wir anfangen die Beete in den Folientunneln vorzubereiten und Kompost zu verteilen und den Boden zu lockern. \nKommt gerne vorbei und lernt den Acker kennen!
URL:https://www.wilde-rauke.de/veranstaltung/acker-aktion-beete-vorbereiten/
END:VEVENT
BEGIN:VEVENT
DTSTART;TZID=UTC:20241217T190000
DTEND;TZID=UTC:20241217T203000
DTSTAMP:20260424T083255
CREATED:20241209T075831Z
LAST-MODIFIED:20251208T115855Z
UID:640-1734462000-1734467400@www.wilde-rauke.de
SUMMARY:17.12.24 -  20 Uhr Online-Infoveranstaltung über die Solawi Wilde Rauke e.V.
DESCRIPTION:Was ist Solawi? Warum Solawi? Die Wilde Rauke stellt sich vor! \nDer Dezember ist oft voller Termine! Und trotzdem ist der Dezember auch schon der Vorbote des nächsten Jahres. \nDaher möchten wir euch in einer Online Infoveranstaltung alles über unsere Solidarische Landwirtschaft erzählen und das nächste Gemüsejahr 2025 vorstellen: Was machen wir und wie könnt ihr einen Anteil Gemüse von uns beziehen? \nMöchtest du uns unkompliziert kennenlernen und erste Infos haben\, Fragen stellen und weitere Mitglieder kennenlernen? \nMeld dich unverbindlich unter unserer Email Adresse an und wir senden dir in der Woche vorher den Zugangslink. \nAnmeldung bis 16.12.24 20h unter info@wilde-rauke.de \nWir freuen uns auf dich und deine Fragen!
URL:https://www.wilde-rauke.de/veranstaltung/17-12-24-20-uhr-online-infoveranstaltung-ueber-die-solawi-wilde-rauke-e-v/
LOCATION:Online
END:VEVENT
BEGIN:VEVENT
DTSTART;VALUE=DATE:20241212
DTEND;VALUE=DATE:20241214
DTSTAMP:20260424T083255
CREATED:20241209T082135Z
LAST-MODIFIED:20251208T103812Z
UID:651-1734044400-1734130799@www.wilde-rauke.de
SUMMARY:Acker Aktionen Hecke Pflanzen
DESCRIPTION:Liebe Mitglieder\, Interessierte\, Supporter*innen und alle die uns kennen lernen wollen. \nWir haben 2 neue Termine für Aktionen auf dem Acker geplant. \nAm 13.12. möchten wir gerne die Naturschutzhecke pflanzen und zäunen\, die wir über das Projekt Ran an die Schaufel vom Kreis Warendorf bekommen haben: Kornelkirsche\, Hartriegel\, Hasel\, Weissdorn\, Heckenkirsche\, Wilde Apfel\, Wilde Birne\, Schehdorn\, Hundsrose\, Holunder und Kreuzdorn. \nAm 18.12. wollen wir anfangen die Beete in den Folientunneln vorzubereiten und Kompost zu verteilen und den Boden zu lockern. \nKommt gerne vorbei und lernt den Acker kennen!
URL:https://www.wilde-rauke.de/veranstaltung/acker-aktionen-hecke-pflanzen/
END:VEVENT
END:VCALENDAR