BEGIN:VCALENDAR
VERSION:2.0
PRODID:-//Wilde Rauke - ECPv6.15.20//NONSGML v1.0//EN
CALSCALE:GREGORIAN
METHOD:PUBLISH
X-WR-CALNAME:Wilde Rauke
X-ORIGINAL-URL:https://www.wilde-rauke.de
X-WR-CALDESC:Veranstaltungen für Wilde Rauke
REFRESH-INTERVAL;VALUE=DURATION:PT1H
X-Robots-Tag:noindex
X-PUBLISHED-TTL:PT1H
BEGIN:VTIMEZONE
TZID:UTC
BEGIN:STANDARD
TZOFFSETFROM:+0000
TZOFFSETTO:+0000
TZNAME:UTC
DTSTART:20250101T000000
END:STANDARD
END:VTIMEZONE
BEGIN:VEVENT
DTSTART;TZID=UTC:20260201T080000
DTEND;TZID=UTC:20260201T170000
DTSTAMP:20260424T083339
CREATED:20260324T155838Z
LAST-MODIFIED:20260324T155838Z
UID:1278-1769932800-1769965200@www.wilde-rauke.de
SUMMARY:Bieterunde und Mitgliederversammlung
DESCRIPTION:Für die 2 Saison findet hier unsere Bieterunde und MV statt.
URL:https://www.wilde-rauke.de/veranstaltung/bieterunde-und-mitgliederversammlung/
END:VEVENT
END:VCALENDAR